Workbook

Sheet Uitleg
A1: Contractenregister
A2: Gratis van Contracker. Vul per contract één regel in op het tabblad Contracten. Grijze kolommen rekenen zichzelf uit.
A4: Hoe gebruik je het
A5: 1. Begin met je vijf duurste contracten. Vraag de boekhouding om alle betalingen aan leveranciers van de afgelopen twaalf maanden.
A6: 2. Vul de einddatum en de opzegtermijn in. De laatste dag om op te zeggen rekent het register zelf uit.
A7: 3. Geef elk contract een eigenaar: één naam, geen afdeling.
A8: 4. Opzegdata binnen 60 dagen kleuren oranje. Dan heb je nog tijd om te beslissen: verlengen, onderhandelen, minder licenties of opzeggen.
A9: 5. Kijk elke maand kort of het aantal licenties nog klopt.
A11: Let op
A12: De opzegtermijn telt meestal terug vanaf de einddatum. Controleer altijd wat er in je contract en de algemene voorwaarden staat. Dit register is een hulpmiddel en geen juridisch advies.
A14: Liever automatisch?
A15: Contracker houdt dit voor al je contracten bij, met een herinnering naar de juiste eigenaar vóór elke opzegdatum. Kijk op contracker.nl.

Sheet Contracten
A1: Leverancier | B1: Product of dienst | C1: Categorie | D1: Eigenaar | E1: Kosten per maand (€) | F1: Kosten per jaar (€) | G1: Licenties betaald | H1: Licenties in gebruik | I1: Ongebruikte licenties | J1: Kosten ongebruikt per jaar (€) | K1: Startdatum | L1: Einddatum | M1: Opzegtermijn (maanden) | N1: Laatste dag om op te zeggen | O1: Dagen tot opzegdatum | P1: Verlenging | Q1: Actie | R1: Notities
A2: Google | B2: Workspace Business Standard | C2: Software | D2: [naam] | E2: 680 | F2: =IF(E2="","",E2*12) | G2: 50 | H2: 41 | I2: =IF(OR(G2="",H2=""),"",MAX(G2-H2,0)) | J2: =IF(OR(I2="",G2="",G2=0,F2=""),"",F2/G2*I2) | K2: 46082 | L2: 46447 | M2: 1 | N2: =IF(OR(L2="",M2=""),"",EDATE(L2,-M2)) | O2: =IF(N2="","",N2-TODAY()) | P2: Jaarlijks stilzwijgend | Q2: Licenties verminderen | R2: Voorbeeld, lijstprijs € 13,60 per licentie (6 nov 2026). Verwijder deze regel.
F3: =IF(E3="","",E3*12) | I3: =IF(OR(G3="",H3=""),"",MAX(G3-H3,0)) | J3: =IF(OR(I3="",G3="",G3=0,F3=""),"",F3/G3*I3) | N3: =IF(OR(L3="",M3=""),"",EDATE(L3,-M3)) | O3: =IF(N3="","",N3-TODAY())
F4: =IF(E4="","",E4*12) | I4: =IF(OR(G4="",H4=""),"",MAX(G4-H4,0)) | J4: =IF(OR(I4="",G4="",G4=0,F4=""),"",F4/G4*I4) | N4: =IF(OR(L4="",M4=""),"",EDATE(L4,-M4)) | O4: =IF(N4="","",N4-TODAY())
F5: =IF(E5="","",E5*12) | I5: =IF(OR(G5="",H5=""),"",MAX(G5-H5,0)) | J5: =IF(OR(I5="",G5="",G5=0,F5=""),"",F5/G5*I5) | N5: =IF(OR(L5="",M5=""),"",EDATE(L5,-M5)) | O5: =IF(N5="","",N5-TODAY())
F6: =IF(E6="","",E6*12) | I6: =IF(OR(G6="",H6=""),"",MAX(G6-H6,0)) | J6: =IF(OR(I6="",G6="",G6=0,F6=""),"",F6/G6*I6) | N6: =IF(OR(L6="",M6=""),"",EDATE(L6,-M6)) | O6: =IF(N6="","",N6-TODAY())
F7: =IF(E7="","",E7*12) | I7: =IF(OR(G7="",H7=""),"",MAX(G7-H7,0)) | J7: =IF(OR(I7="",G7="",G7=0,F7=""),"",F7/G7*I7) | N7: =IF(OR(L7="",M7=""),"",EDATE(L7,-M7)) | O7: =IF(N7="","",N7-TODAY())
F8: =IF(E8="","",E8*12) | I8: =IF(OR(G8="",H8=""),"",MAX(G8-H8,0)) | J8: =IF(OR(I8="",G8="",G8=0,F8=""),"",F8/G8*I8) | N8: =IF(OR(L8="",M8=""),"",EDATE(L8,-M8)) | O8: =IF(N8="","",N8-TODAY())
F9: =IF(E9="","",E9*12) | I9: =IF(OR(G9="",H9=""),"",MAX(G9-H9,0)) | J9: =IF(OR(I9="",G9="",G9=0,F9=""),"",F9/G9*I9) | N9: =IF(OR(L9="",M9=""),"",EDATE(L9,-M9)) | O9: =IF(N9="","",N9-TODAY())
F10: =IF(E10="","",E10*12) | I10: =IF(OR(G10="",H10=""),"",MAX(G10-H10,0)) | J10: =IF(OR(I10="",G10="",G10=0,F10=""),"",F10/G10*I10) | N10: =IF(OR(L10="",M10=""),"",EDATE(L10,-M10)) | O10: =IF(N10="","",N10-TODAY())
F11: =IF(E11="","",E11*12) | I11: =IF(OR(G11="",H11=""),"",MAX(G11-H11,0)) | J11: =IF(OR(I11="",G11="",G11=0,F11=""),"",F11/G11*I11) | N11: =IF(OR(L11="",M11=""),"",EDATE(L11,-M11)) | O11: =IF(N11="","",N11-TODAY())
F12: =IF(E12="","",E12*12) | I12: =IF(OR(G12="",H12=""),"",MAX(G12-H12,0)) | J12: =IF(OR(I12="",G12="",G12=0,F12=""),"",F12/G12*I12) | N12: =IF(OR(L12="",M12=""),"",EDATE(L12,-M12)) | O12: =IF(N12="","",N12-TODAY())
F13: =IF(E13="","",E13*12) | I13: =IF(OR(G13="",H13=""),"",MAX(G13-H13,0)) | J13: =IF(OR(I13="",G13="",G13=0,F13=""),"",F13/G13*I13) | N13: =IF(OR(L13="",M13=""),"",EDATE(L13,-M13)) | O13: =IF(N13="","",N13-TODAY())
F14: =IF(E14="","",E14*12) | I14: =IF(OR(G14="",H14=""),"",MAX(G14-H14,0)) | J14: =IF(OR(I14="",G14="",G14=0,F14=""),"",F14/G14*I14) | N14: =IF(OR(L14="",M14=""),"",EDATE(L14,-M14)) | O14: =IF(N14="","",N14-TODAY())
... F201: =IF(E201="","",E201*12) | I201: =IF(OR(G201="",H201=""),"",MAX(G201-H201,0)) | J201: =IF(OR(I201="",G201="",G201=0,F201=""),"",F201/G201*I201) | N201: =IF(OR(L201="",M201=""),"",EDATE(L201,-M201)) | O201: =IF(N201="","",N201-TODAY())

Sheet Overzicht
A1: Overzicht
A3: Aantal contracten | B3: =COUNTA(Contracten!A2:A201)
A4: Totale kosten per jaar | B4: =SUM(Contracten!F2:F201)
A5: Kosten van ongebruikte licenties per jaar | B5: =SUM(Contracten!J2:J201)
A6: Opzegdata in de komende 60 dagen | B6: =COUNTIFS(Contracten!O2:O201,">=0",Contracten!O2:O201,"<=60")
A7: Contracten zonder eigenaar | B7: =COUNTIFS(Contracten!A2:A201,"<>",Contracten!D2:D201,"")
